BEGIN:VCALENDAR
VERSION:2.0
PRODID:-//eventon.com NONSGML v1.0//EN
CALSCALE:GREGORIAN
METHOD:PUBLISH
BEGIN:VEVENT
UID:69e8a114caac4
DTSTAMP:20260422T102108Z
DTSTART:20260321T220000Z
DTEND:20260322T045900Z
LOCATION:Kay Yeager Coliseum 1000 5th Street Wichita Falls TX 76301
SUMMARY:Peak Fighting Championship – 51
DESCRIPTION:Buckle up\,  Wichita Falls! Peak Fighting Championship is comin
 g to Kay Yeager Coliseum March 21st! These fighters dig deep into their bag
  of skills\,  employing MMA\,  boxing\,  wrestling\,  grappling\,  and more
 \,  all in the quest for Peak Fighting glory! It’s a night of uppercuts\,
   elbow strikes\,  spinning back kicks\,  takedowns\, [..]\nhttps://discove
 rwichitafalls.com/events/peak-fighting-championship-51/
URL:https://discoverwichitafalls.com/events/peak-fighting-championship-51/
END:VEVENT
END:VCALENDAR